Workbook

Sheet Összesítő
C1: db | D1: Összesen (Ft)
B2: Árajánlatos | C2: 1 | D2: =+Árajánlatos!G4 -> 0
B3: Termény tároló | C3: 1 | D3: =+'Költségvetés - Terménytároló'!J39 -> 0
D5: =SUM(D2:D4) -> 0
B8: Munkanemösszesítő - Termény
B9: 15 | C9: =SUM('Költségvetés - Terménytároló'!J5:J8) -> 0
B10: 21 | C10: =SUM('Költségvetés - Terménytároló'!J9:J19) -> 0
B11: 23 | C11: =SUM('Költségvetés - Terménytároló'!J20) -> 0
B12: 31 | C12: =SUM('Költségvetés - Terménytároló'!J21:J27) -> 0
B13: 33 | C13: =SUM('Költségvetés - Terménytároló'!J28) -> 0
B14: 34 | C14: =SUM('Költségvetés - Terménytároló'!J29:J34) -> 0
B15: 54 | C15: =+'Költségvetés - Terménytároló'!J35 -> 0
B16: 71 | C16: =SUM('Költségvetés - Terménytároló'!J36) -> 0
B17: 75 | C17: =+'Költségvetés - Terménytároló'!J37 -> 0
B18: Összesen (Ft) | C18: =SUM(C9:C17) -> 0

Sheet Árajánlatos
A1: Megnevezés | B1: m.e. | C1: egys. | D1: Egységár | E1: Áfa (27%) | F1: Br. egys. | G1: Nettó összesen (Ft) | H1: Áfa (27%) | I1: Bruttó összesen (Ft)
A3: Weidemann eHoftrac elektromos akkumlátoros 1160 | B3: 1 | C3: db | E3: =+ROUNDDOWN(D3*0.27,0) -> 0 | F3: =+D3+E3 -> 0 | G3: =+ROUNDDOWN(B3*D3,0) -> 0 | H3: =+ROUNDDOWN(G3*0.27,0) -> 0 | I3: =+G3+H3 -> 0
G4: =SUM(G3:G3) -> 0 | H4: =SUM(H3:H3) -> 0 | I4: =SUM(I3:I3) -> 0

Sheet Költségvetés - Terménytároló
A2: Terménytároló Közbeszerzési Költségvetés
A4: Ssz. | B4: MVH Kód | C4: Tétel szövege | D4: Menny. | E4: Egység | F4: Anyag egységár | G4: Díj egységre | H4: Anyag összesen | I4: Munkadíj összesen | J4: Összesen | K4: MVH ár
A5: 1 | B5: 15-002-0010873 | C5: Keverékek és ideiglenes segédszerkezetek Zsaluzás és állványozás Függőleges és ferde szerkezetek zsaluzása Kétoldali falzsaluzás függőleges vagy ferde sík felülettel, szerelt táblás zsaluzattal, kézzel mozgatva, 3 m magasságig | D5: 1105.28 | E5: m2 | G5: =SUM(K5-F5) -> 0 | H5: =ROUNDDOWN(D5*F5,0) -> 0 | I5: =ROUNDDOWN(D5*G5,0) -> 0 | J5: =ROUNDDOWN(H5+I5,0) -> 0
A6: 2 | B6: 15-902-1235912 | C6: Keverékek és ideiglenes segédszerkezetek Zsaluzás és állványozás Bérleti díj függőleges és ferde szerkezetek zsaluzásához BÉRLETI DÍJ kétoldali falzsaluzásnál, függőleges vagy ferde sík felülettel, szerelt táblás zsaluzattal, kézzel mozgatva, 3 m magasságig Szerelt táblás zsaluzat bérleti díj/Hó | D6: 1105.28 | E6: m2 | G6: =SUM(K6-F6) -> 0 | H6: =ROUNDDOWN(D6*F6,0) -> 0 | I6: =ROUNDDOWN(D6*G6,0) -> 0 | J6: =ROUNDDOWN(H6+I6,0) -> 0
A7: 3 | B7: 15-012-0012425 | C7: Keverékek és ideiglenes segédszerkezetek Zsaluzás és állványozás Könnyű állványszerkezetek Homlokzati csőállvány állítása állványcsőből mint munkaállvány,szintenkénti pallóterítéssel, korláttal, lábdeszkával, kétlábas,0,60-0,90 m padlószélességgel, munkapadló távolság 2,00 m, 2,00 kN/m˛terhelhetőséggel, állványépítés MSZ és alkalmazástechnikai kézikönyv szerint, 6,00 m munkapadló magasságig | D7: 880.8 | E7: m2 | G7: =SUM(K7-F7) -> 0 | H7: =ROUNDDOWN(D7*F7,0) -> 0 | I7: =ROUNDDOWN(D7*G7,0) -> 0 | J7: =ROUNDDOWN(H7+I7,0) -> 0
A8: 4 | B8: 15-012-0012861 | C8: Keverékek és ideiglenes segédszerkezetek Zsaluzás és állványozás Könnyű állványszerkezetek Bakállvány készítése pallóterítéssel, fából, 2,00 kN/m˛ terhelhetőséggel, 1,50-4,00 m magasság között, nagybakból | D8: 729.6 | E8: m2 | G8: =SUM(K8-F8) -> 0 | H8: =ROUNDDOWN(D8*F8,0) -> 0 | I8: =ROUNDDOWN(D8*G8,0) -> 0 | J8: =ROUNDDOWN(H8+I8,0) -> 0
A9: 5 | B9: 21-001-0013665 | C9: Alépítményi munkák Irtás, föld- és sziklamunka Írtás, parkosítás Bozót- és cserjeírtás, tövek átmérője 4,1-10,0 cm | D9: 240 | E9: 10m2 | G9: =SUM(K9-F9) -> 0 | H9: =ROUNDDOWN(D9*F9,0) -> 0 | I9: =ROUNDDOWN(D9*G9,0) -> 0 | J9: =ROUNDDOWN(H9+I9,0) -> 0
A10: 6 | B10: 21-002-0014473 | C10: Alépítményi munkák Irtás, föld- és sziklamunka Előkészítő földmunka Humuszos termőréteg, termőföld leszedése,terítése gépi erővel, 18%-os terephajlásig,bármilyen talajban, szállítással, 200,1-400,0 m között | D10: 600 | E10: m3 | G10: =SUM(K10-F10) -> 0 | H10: =ROUNDDOWN(D10*F10,0) -> 0 | I10: =ROUNDDOWN(D10*G10,0) -> 0 | J10: =ROUNDDOWN(H10+I10,0) -> 0
A11: 7 | B11: 21-003-0015022 | C11: Alépítményi munkák Irtás, föld- és sziklamunka Munkagödör és munkaárok készítése Munkagödör földkiemelése épületek és műtárgyakhelyén bármely konzisztenciájú, I-IV. oszt. talajban, gépi erővel, kiegészítő kézi munkával, alapterület: 250,0 m2 felett, bármely mélységnél | D11: 357.5 | E11: m3 | G11: =SUM(K11-F11) -> 0 | H11: =ROUNDDOWN(D11*F11,0) -> 0 | I11: =ROUNDDOWN(D11*G11,0) -> 0 | J11: =ROUNDDOWN(H11+I11,0) -> 0
A12: 8 | B12: 21-003-0014710 | C12: Alépítményi munkák Irtás, föld- és sziklamunka Munkagödör és munkaárok készítése Munkaárok földkiemelése közművesített területen,kézi erővel, bármely konzisztenciájú talajban, dúcolás nélkül, 2,0 m˛ szelvényig, III. talajosztály | D12: 402.16 | E12: m3 | G12: =SUM(K12-F12) -> 0 | H12: =ROUNDDOWN(D12*F12,0) -> 0 | I12: =ROUNDDOWN(D12*G12,0) -> 0 | J12: =ROUNDDOWN(H12+I12,0) -> 0
A13: 9 | B13: 21-003-0015160 | C13: Alépítményi munkák Irtás, föld- és sziklamunka Munkagödör és munkaárok készítése Pillérek, gépalapok, oszlopok, aknák, munkagödrök,pincetömbök kiemelése,1 m padka hagyással, kétoldalra kiemelve, depóniábavagy szállítóeszközre rakva, vizes, tapadós talajban, 10,00 m2 alapterületig, 1,50 m mélységig, III. fejtési talajosztályban | D13: 290.4 | E13: m3 | G13: =SUM(K13-F13) -> 0 | H13: =ROUNDDOWN(D13*F13,0) -> 0 | I13: =ROUNDDOWN(D13*G13,0) -> 0 | J13: =ROUNDDOWN(H13+I13,0) -> 0
A14: 10 | B14: 21-003-0015361 | C14: Alépítményi munkák Irtás, föld- és sziklamunka Munkagödör és munkaárok készítése Földvisszatöltés munkagödörbe vagy munkaárokba,tömörítés nélkül, réteges elterítéssel,I-IV. osztályú talajban, kézi erővel, az anyag súlypontja karoláson belül, a vezetéket (műtárgyat) környező 50 cm-en túli szelvényben | D14: 434.94 | E14: m3 | G14: =SUM(K14-F14) -> 0 | H14: =ROUNDDOWN(D14*F14,0) -> 0 | I14: =ROUNDDOWN(D14*G14,0) -> 0 | J14: =ROUNDDOWN(H14+I14,0) -> 0
A15: 11 | B15: 21-008-0016195 | C15: Alépítményi munkák Irtás, föld- és sziklamunka Tömörítés Tömörítés bármely tömörítési osztálybangépi erővel, nagy felületen, tömörségi fok: 85% | D15: 434.94 | E15: m3 | G15: =SUM(K15-F15) -> 0 | H15: =ROUNDDOWN(D15*F15,0) -> 0 | I15: =ROUNDDOWN(D15*G15,0) -> 0 | J15: =ROUNDDOWN(H15+I15,0) -> 0
A16: 12 | B16: 21-011-2614066 | C16: Alépítményi munkák Irtás, föld- és sziklamunka Kiegészítő tevékenységek Feltöltések alap- és lábazati falak közéés alagsori vagy alá nem pincézett földszintipadozatok alá, az anyag szétterítésével,mozgatásával, kézi döngöléssel, osztályozatlan kavicsból Természetes szemmegoszlású kavics, THK 0/32 Q-TT, Ártánd | D16: 267.86 | E16: m3 | G16: =SUM(K16-F16) -> 0 | H16: =ROUNDDOWN(D16*F16,0) -> 0 | I16: =ROUNDDOWN(D16*G16,0) -> 0 | J16: =ROUNDDOWN(H16+I16,0) -> 0
... A24: 20 | B24: 31-011-0038303 | C24: Építőmesteri munkák Helyszíni beton és vasbeton munkák Függőleges szerkezetek betonozása Vasbetonfal készítése, X0v(H), XC1, XC2, XC3 környezeti osztályú,kissé képlékeny vagy képlékeny konzisztenciájú betonból, kézi bedolgozással, vibrátoros tömörítéssel, 25-50 cm vastagság között C25/30 - XC2 képlékeny kavicsbeton keverék CEM 32,5 pc. Dçmax = 16 mm, m = 6,6 finomsági modulussal | D24: 105.6 | E24: m3 | G24: =SUM(K24-F24) -> 0 | H24: =ROUNDDOWN(D24*F24,0) -> 0 | I24: =ROUNDDOWN(D24*G24,0) -> 0 | J24: =ROUNDDOWN(H24+I24,0) -> 0
A25: 21 | B25: 31-030-0062623 | C25: Építőmesteri munkák Helyszíni beton és vasbeton munkák Közbenső és felületképző szerkezetek készítése Beton aljzat készítése helyszínen kevert betonból, kisgépes, betonszivattyús továbbítással és kézi bedolgozással,merev aljzatra, tartószerkezetre léccel lehúzva, kavicsbetonból, C 8/10 - C 16/20kissé képlékeny konzisztenciájú betonból, 6 cm vastagság felett C16/20 - X0b(H) kissé képlékeny kavicsbeton keverék CEM 42,5 pc. Dçmax = 16 mm, m = 6,4 finomsági modulussal | D25: =242.4+169.1 -> 411.5 | E25: m3 | G25: =SUM(K25-F25) -> 0 | H25: =ROUNDDOWN(D25*F25,0) -> 0 | I25: =ROUNDDOWN(D25*G25,0) -> 0 | J25: =ROUNDDOWN(H25+I25,0) -> 0
A26: 22 | B26: 31-030-0062325 | C26: Építőmesteri munkák Helyszíni beton és vasbeton munkák Közbenső és felületképző szerkezetek készítése Beton aljzat felületképzéséért többletidő, kemény kopóréteg képzése bazaltzúzalékos szórással,vassimítóval simítva | D26: 1029.34 | E26: m2 | G26: =SUM(K26-F26) -> 0 | H26: =ROUNDDOWN(D26*F26,0) -> 0 | I26: =ROUNDDOWN(D26*G26,0) -> 0 | J26: =ROUNDDOWN(H26+I26,0) -> 0
A27: 23 | B27: 31-030-0062313 | C27: Építőmesteri munkák Helyszíni beton és vasbeton munkák Közbenső és felületképző szerkezetek készítése Beton aljzat felületképzéséért többletidő, saját levében cementszórással, simított fényes felület, vassimítóval | D27: 1479.34 | E27: m2 | G27: =SUM(K27-F27) -> 0 | H27: =ROUNDDOWN(D27*F27,0) -> 0 | I27: =ROUNDDOWN(D27*G27,0) -> 0 | J27: =ROUNDDOWN(H27+I27,0) -> 0
A28: 24 | B28: 33-001-1237901 | C28: Építőmesteri munkák Falazás és egyéb kőműves munkák Teherhordó és kitöltő falazatok Teherhordó és kitöltő falazat készítése, beton, könnyűbeton falazóblokk vagy zsaluzóelem termékekből, 300 mm falvastagságban, 300x500x250 mm-es méretű beton zsaluzóelemből, kitöltő betonnal, betonacél beépítéssel KK KAVICS BETON 30-as zsaluzóelem, 300/500/250 mm, C16/20-16/kissé képlékeny kavicsbeton, B 60.40:10 mm átmérőjű betonacél | D28: 282.26 | E28: m2 | G28: =SUM(K28-F28) -> 0 | H28: =ROUNDDOWN(D28*F28,0) -> 0 | I28: =ROUNDDOWN(D28*G28,0) -> 0 | J28: =ROUNDDOWN(H28+I28,0) -> 0
A29: 25 | B29: 34-001-0096421 | C29: Építőmesteri munkák Fém- és könnyű épületszerkezetek szerelése Acél tartószerkezetek (első- és másodrendű teherhordó szerkezetek) Acél tetőszerkezet rácsos szaruzattal, 10 kg/m2 tömegig | D29: 1171.1 | E29: m2 | G29: =SUM(K29-F29) -> 0 | H29: =ROUNDDOWN(D29*F29,0) -> 0 | I29: =ROUNDDOWN(D29*G29,0) -> 0 | J29: =ROUNDDOWN(H29+I29,0) -> 0
A30: 26 | B30: 34-001-0096181 | C30: Építőmesteri munkák Fém- és könnyű épületszerkezetek szerelése Acél tartószerkezetek (első- és másodrendű teherhordó szerkezetek) Épület-acélváz szerelése tömör szerelvényekből, 20,0 kg/m2 tömegig | D30: 1078 | E30: m2 | G30: =SUM(K30-F30) -> 0 | H30: =ROUNDDOWN(D30*F30,0) -> 0 | I30: =ROUNDDOWN(D30*G30,0) -> 0 | J30: =ROUNDDOWN(H30+I30,0) -> 0
A31: 27 | B31: 34-001-2887950 | C31: Építőmesteri munkák Fém- és könnyű épületszerkezetek szerelése Acél tartószerkezetek (első- és másodrendű teherhordó szerkezetek) Z-C-ň könnyűgerenda rendszer elemeinek elhelyezése, Z-C-ň 150-160 szelemenek és falvázgerendák MAGYAR ACÉLMŰVEK Z 150x41/47x1,50 mm horganyzott acélgerenda S 350 GD + Z 275 | D31: 862.4 | E31: m | G31: =SUM(K31-F31) -> 0 | H31: =ROUNDDOWN(D31*F31,0) -> 0 | I31: =ROUNDDOWN(D31*G31,0) -> 0 | J31: =ROUNDDOWN(H31+I31,0) -> 0
A32: 28 | B32: 34-002-0103191 | C32: Építőmesteri munkák Fém- és könnyű épületszerkezetek szerelése Könnyűszerkezetes térlefedő burkolati rendszerek Külső térlefedés hőszigetelt szendvicspanel elemekkel,látszó csavaros rögzítéssel, 4,00 m˛/db nagyságig, poliuretánhabos szigeteléssel, 40 mm vastagságban KINGSPAN KS 1000 RW 40/0,5/0,4 tetőpanel horganyzott+25/20 ?m polyester bevonat, standard színben | D32: 1171.1 | E32: m2 | G32: =SUM(K32-F32) -> 0 | H32: =ROUNDDOWN(D32*F32,0) -> 0 | I32: =ROUNDDOWN(D32*G32,0) -> 0 | J32: =ROUNDDOWN(H32+I32,0) -> 0
A33: 29 | B33: 34-006-0107140 | C33: Építőmesteri munkák Fém- és könnyű épületszerkezetek szerelése Könnyűszerkezetes rögzítő elemek Panelrögzítő csavar elhelyezése, szendvicspanel fogadó acéltartó rendszerére KINGSPAN JT2-D-6H-5,5x62 V16 horganyzott acél önfúró csavarok, hidegen hajlított acélszerkezethez (1,5-5,0 mm falvastagságig) | D33: 11736 | E33: db | G33: =SUM(K33-F33) -> 0 | H33: =ROUNDDOWN(D33*F33,0) -> 0 | I33: =ROUNDDOWN(D33*G33,0) -> 0 | J33: =ROUNDDOWN(H33+I33,0) -> 0
A34: 30 | B34: 34-003-0106275 | C34: Építőmesteri munkák Fém- és könnyű épületszerkezetek szerelése Könnyűszerkezetes térelhatároló burkolati rendszerek Külső térelhatárolás hőszigetelt szendvicspanel elemekkel,látszó csavaros rögzítéssel, 4,00 m˛/db nagyságig, poliuretánhab szigeteléssel, 30-100 mm vastagság között, 40 mm vastagságban KINGSPAN KS 1150 TF 40/0,5/0,5 falpanel horganyzott+25/20 ?m polyester bevonat, standard színben | D34: 784.8 | E34: m2 | G34: =SUM(K34-F34) -> 0 | H34: =ROUNDDOWN(D34*F34,0) -> 0 | I34: =ROUNDDOWN(D34*G34,0) -> 0 | J34: =ROUNDDOWN(H34+I34,0) -> 0
A35: 31 | B35: 54-001 árajánlat | C35: Tető ventilátor - 2 állítású NYIT / ZÁR nyitómotorral komplett | D35: 3 | E35: db | G35: =SUM(K35-F35) -> 0 | H35: =ROUNDDOWN(D35*F35,0) -> 0 | I35: =ROUNDDOWN(D35*G35,0) -> 0 | J35: =ROUNDDOWN(H35+I35,0) -> 0
A36: 32 | B36: 71-001 árajánlat | C36: Napelemes kandelláber 30W | D36: 4 | E36: db | G36: =SUM(K36-F36) -> 0 | H36: =ROUNDDOWN(D36*F36,0) -> 0 | I36: =ROUNDDOWN(D36*G36,0) -> 0 | J36: =ROUNDDOWN(H36+I36,0) -> 0
A37: 33 | B37: 75-001 árajánlat | C37: 50.000 49 800 W-os tetőszerkezetre telepíthető hálózatra tápláló napelemes rendszer | D37: 1 | E37: db | G37: =SUM(K37-F37) -> 0 | H37: =ROUNDDOWN(D37*F37,0) -> 0 | I37: =ROUNDDOWN(D37*G37,0) -> 0 | J37: =ROUNDDOWN(H37+I37,0) -> 0
J39: =SUM(J5:J38) -> 0
